BEGIN:VCALENDAR
VERSION:2.0
PRODID:-//Sabre//Sabre VObject 4.5.5//EN
CALSCALE:GREGORIAN
BEGIN:VEVENT
UID:sabre-vobject-4fef145a-46f0-4f83-8c63-9c950ec9c0b8
DTSTAMP:20260420T033935Z
SUMMARY:3.Passionsandacht mit Pastor Anderson mit Telefon-Andacht:0431/5560
 6212
DTSTART;TZID=Europe/Berlin:20260401T180000
ORGANIZER;CN=Ev.-Luth. Kirchengemeinde Schönkirchen:MAILTO:info@kirche-sch
 oenkirchen.de
LOCATION:Ev. Gemeindehaus Mönkeberg\, Am Eksol 12\, Mönkeberg
GEO:54.348822;10.190254
BEGIN:VALARM
TRIGGER;VALUE=DURATION:P1D
ACTION:DISPLAY
DESCRIPTION:3.Passionsandacht mit Pastor Anderson mit Telefon-Andacht:0431/
 55606212
END:VALARM
END:VEVENT
END:VCALENDAR
