BEGIN:VCALENDAR
VERSION:2.0
PRODID:-//Sabre//Sabre VObject 4.5.5//EN
CALSCALE:GREGORIAN
BEGIN:VEVENT
UID:sabre-vobject-16c0fe37-367a-436e-b1e1-0c5cb6c39b22
DTSTAMP:20260420T033952Z
SUMMARY:Abendgottesdienst mit Pastor Anderson mit anschliessender Kirchenkn
 eipe
DTSTART;TZID=Europe/Berlin:20260424T180000
ORGANIZER;CN=Ev.-Luth. Kirchengemeinde Schönkirchen:MAILTO:info@kirche-sch
 oenkirchen.de
LOCATION:Pastor-Sievers-Haus\, Blomeweg 2\, Schönkirchen
GEO:54.333494;10.226467
BEGIN:VALARM
TRIGGER;VALUE=DURATION:P1D
ACTION:DISPLAY
DESCRIPTION:Abendgottesdienst mit Pastor Anderson mit anschliessender Kirch
 enkneipe
END:VALARM
END:VEVENT
END:VCALENDAR
