BEGIN:VCALENDAR
VERSION:2.0
PRODID:-//Sabre//Sabre VObject 4.5.5//EN
CALSCALE:GREGORIAN
BEGIN:VEVENT
UID:sabre-vobject-7946dba2-e360-4e01-b0cf-3f47ea01fc17
DTSTAMP:20260420T033410Z
SUMMARY:Abendmahlgottesdienst\, Pn Glatthor
DTSTART;TZID=Europe/Berlin:20260419T110000
ORGANIZER;CN=Ev.-Luth. Kirchengemeinde Preetz:MAILTO:kirchenbuero@kirche-in
 -preetz.de
LOCATION:Bodelschwinghkirche\, Max-Planck-Str. 2\, Preetz
GEO:54.24346;10.26991
BEGIN:VALARM
TRIGGER;VALUE=DURATION:P1D
ACTION:DISPLAY
DESCRIPTION:Abendmahlgottesdienst\, Pn Glatthor
END:VALARM
END:VEVENT
END:VCALENDAR
