BEGIN:VCALENDAR
VERSION:2.0
PRODID:-//Sabre//Sabre VObject 4.5.5//EN
CALSCALE:GREGORIAN
BEGIN:VEVENT
UID:sabre-vobject-ddaaac3a-f489-466d-9990-f2f8cbf3f569
DTSTAMP:20260420T035012Z
SUMMARY:Christus ist das Licht“ - Feier der Osternacht - Abendmahlsgottes
 dienst im Kerzenschein mit festlicher Liturgie u. Chorgesang\, Pn Schleupn
 er u. Kantor Ralf Popken
DTSTART;TZID=Europe/Berlin:20260405T053000
ORGANIZER;CN=Ev.-Luth. Kirchengemeinde Lütjenburg:MAILTO:mail@kirchengemei
 nde-luetjenburg.de
LOCATION:St. Michaelis\, Wehdenstraße 14\, Lütjenburg
GEO:54.292638;10.59211
DESCRIPTION:\nDer Gottesdienst beginnt im völligen Dunkel der Kirche und d
 ie Besucherinnen und Besucher erhalten beim Eingang je eine Kerze\, die w
 ährend des Verlaufs entzündet wird\, bis dann schließlich das Licht der
  aufgehenden Sonne - das Symbol für die Auferstehung Christi - den Kirche
 nraum erhellt. Kantor Ralf Popken und der Michaelis-Chor übernehmen mit d
 er feierlichen Liturgie und festlichem Chorgesang die musikalische Gestalt
 ung. Pastorin Kathrin Schleupner leitet den Gottesdienst.
BEGIN:VALARM
TRIGGER;VALUE=DURATION:P1D
ACTION:DISPLAY
DESCRIPTION:Christus ist das Licht“ - Feier der Osternacht - Abendmahlsgo
 ttesdienst im Kerzenschein mit festlicher Liturgie u. Chorgesang\, Pn Schl
 eupner u. Kantor Ralf Popken
END:VALARM
END:VEVENT
END:VCALENDAR
