BEGIN:VCALENDAR
VERSION:2.0
PRODID:-//Sabre//Sabre VObject 4.5.5//EN
CALSCALE:GREGORIAN
BEGIN:VEVENT
UID:sabre-vobject-1674602b-6641-4c5e-a66c-f208496e8fd3
DTSTAMP:20260420T033227Z
SUMMARY:De niege Baadstuuv
DTSTART;TZID=Europe/Berlin:20260425T200000
DTEND;TZID=Europe/Berlin:20260425T220000
ORGANIZER;CN=Lachmöwen Theater:MAILTO:info@lachmoewen.de
LOCATION:Lachmöwen-Theater\, Katzbek 4\, Laboe (Laboe)
GEO:54.4079344;10.2251553
DESCRIPTION:Eine Komödie von Birgit Bockmann und Till Huster\nSylvia und A
 rnold sind seit über dreißig Jahren glücklich verheiratet\, als Arnold 
 überraschend in Frühpension geschickt wird. Die häusliche Routine gerä
 t gehörig durcheinander\, denn ohne Perspektive und Hobbies wird Arnold f
 ür die berufstätige Sylvia zu einer echten Belastung. Um die Situation z
 u beruhigen schlägt sie vor\, er könne sich doch der Renovierung des Bad
 ezimmers annehmen. Für den Beamten ohne Vorkenntnisse beginnt der Kampf m
 it Mörtelkitt\, Fugenpresse und Geruchsverschluss. Während der Renovieru
 ng kommen nicht nur alte Gefühle und Erinnerungen\, sondern auch ein gut 
 verborgenes Geheimnis zum Vorschein...
BEGIN:VALARM
TRIGGER;VALUE=DURATION:P1D
ACTION:DISPLAY
DESCRIPTION:De niege Baadstuuv
END:VALARM
END:VEVENT
END:VCALENDAR
