BEGIN:VCALENDAR
VERSION:2.0
PRODID:-//Sabre//Sabre VObject 4.5.5//EN
CALSCALE:GREGORIAN
BEGIN:VEVENT
UID:sabre-vobject-921bb850-cf94-45b1-9cc6-1b319573b4b1
DTSTAMP:20260420T034855Z
SUMMARY:Familien-Gottesdienst  mit Abendmahl\, Pastorin Stockhausen
DTSTART;TZID=Europe/Berlin:20260405T100000
ORGANIZER;CN=Ev.-Luth. Philippus-Kirchengemeinde Klausdorf:MAILTO:kirchenbu
 ero@kirchengemeinde-klausdorf.de
LOCATION:Philippus Kirche\, Dorfplatz 8\, Schwentinental
GEO:54.309745;10.214354
BEGIN:VALARM
TRIGGER;VALUE=DURATION:P1D
ACTION:DISPLAY
DESCRIPTION:Familien-Gottesdienst  mit Abendmahl\, Pastorin Stockhausen
END:VALARM
END:VEVENT
END:VCALENDAR
