BEGIN:VCALENDAR
VERSION:2.0
PRODID:-//Sabre//Sabre VObject 4.5.5//EN
CALSCALE:GREGORIAN
BEGIN:VEVENT
UID:sabre-vobject-221117ec-d582-4b10-aa1f-d0ab787959fc
DTSTAMP:20260420T035018Z
SUMMARY:Familien-Tischgottesdienst im Gemeindehaus\, Brunch und Ostersuche
DTSTART;TZID=Europe/Berlin:20260405T110000
ORGANIZER;CN=Ev.-Luth. Kirchengemeinde Blekendorf:MAILTO:ev.kirche-blekendo
 rf@t-online.de
LOCATION:St. Claren\, Lange Straße 38\, Blekendorf
GEO:54.275985;10.650618
BEGIN:VALARM
TRIGGER;VALUE=DURATION:P1D
ACTION:DISPLAY
DESCRIPTION:Familien-Tischgottesdienst im Gemeindehaus\, Brunch und Ostersu
 che
END:VALARM
END:VEVENT
END:VCALENDAR
