BEGIN:VCALENDAR
VERSION:2.0
PRODID:-//Sabre//Sabre VObject 4.5.5//EN
CALSCALE:GREGORIAN
BEGIN:VEVENT
UID:sabre-vobject-ad56dbfc-044c-4fb3-ac33-8a91cc5e6253
DTSTAMP:20260420T034119Z
SUMMARY:Familiengottesdienst zum Ostersonntag mit Ostereiersuchen und Mitbr
 ingbuffet mit Pastor Suhr
DTSTART;TZID=Europe/Berlin:20260406T100000
ORGANIZER;CN=Ev.-Luth. Kirchengemeinde Schönkirchen:MAILTO:info@kirche-sch
 oenkirchen.de
LOCATION:Pastor-Sievers-Haus\, Blomeweg 2\, Schönkirchen
GEO:54.333494;10.226467
BEGIN:VALARM
TRIGGER;VALUE=DURATION:P1D
ACTION:DISPLAY
DESCRIPTION:Familiengottesdienst zum Ostersonntag mit Ostereiersuchen und M
 itbringbuffet mit Pastor Suhr
END:VALARM
END:VEVENT
END:VCALENDAR
