BEGIN:VCALENDAR
VERSION:2.0
PRODID:-//Sabre//Sabre VObject 4.5.5//EN
CALSCALE:GREGORIAN
BEGIN:VEVENT
UID:sabre-vobject-38599276-0574-46a1-ae05-0bbaa84fd0f4
DTSTAMP:20260420T034650Z
SUMMARY:Feierabendmahl\,  Pastorin Rahnenführer und Pastorin Lubeck
DTSTART;TZID=Europe/Berlin:20260402T170000
ORGANIZER;CN=Ev.-Luth. Friedenskirchengemeinde Plön:MAILTO:kirche-ploen@ki
 rche-ps.de
LOCATION:Nikolaikirche Plön\, Markt 25\, Plön
GEO:54.157971;10.417241
BEGIN:VALARM
TRIGGER;VALUE=DURATION:P1D
ACTION:DISPLAY
DESCRIPTION:Feierabendmahl\,  Pastorin Rahnenführer und Pastorin Lubeck
END:VALARM
END:VEVENT
END:VCALENDAR
