BEGIN:VCALENDAR
VERSION:2.0
PRODID:-//Sabre//Sabre VObject 4.5.5//EN
CALSCALE:GREGORIAN
BEGIN:VEVENT
UID:sabre-vobject-c314cc11-efed-4b9f-be2c-c8d8fbf3d9e9
DTSTAMP:20260420T033117Z
SUMMARY:Feierabendmahl\, Pn Glatthor
DTSTART;TZID=Europe/Berlin:20260402T190000
ORGANIZER;CN=Ev.-Luth. Kirchengemeinde Preetz:MAILTO:kirchenbuero@kirche-in
 -preetz.de
LOCATION:Bodelschwinghkirche\, Max-Planck-Str. 2\, Preetz
GEO:54.24346;10.26991
BEGIN:VALARM
TRIGGER;VALUE=DURATION:P1D
ACTION:DISPLAY
DESCRIPTION:Feierabendmahl\, Pn Glatthor
END:VALARM
END:VEVENT
END:VCALENDAR
