BEGIN:VCALENDAR
VERSION:2.0
PRODID:-//Sabre//Sabre VObject 4.5.5//EN
CALSCALE:GREGORIAN
BEGIN:VEVENT
UID:sabre-vobject-e9dfd61f-1a6a-40c7-ac51-fa90b35f486f
DTSTAMP:20260420T033421Z
SUMMARY:Feierabendmahl\, Sylvia Bernien und Team
DTSTART;TZID=Europe/Berlin:20260402T190000
ORGANIZER;CN=Ev.-Luth. Kirchengemeinde Selent:MAILTO:kg-selent@gmx.de
LOCATION:Kapelle in Fargau\, Dorfstraße 54\, Fargau-Pratjau
GEO:54.31938;10.3745
BEGIN:VALARM
TRIGGER;VALUE=DURATION:P1D
ACTION:DISPLAY
DESCRIPTION:Feierabendmahl\, Sylvia Bernien und Team
END:VALARM
END:VEVENT
END:VCALENDAR
