BEGIN:VCALENDAR
VERSION:2.0
PRODID:-//Sabre//Sabre VObject 4.5.5//EN
CALSCALE:GREGORIAN
BEGIN:VEVENT
UID:sabre-vobject-c593b46a-3680-4bce-aa9f-b74a9e08421b
DTSTAMP:20260420T033609Z
SUMMARY:Frühstücks-Gottesdienst\, Pastor Müller
DTSTART;TZID=Europe/Berlin:20260412T093000
ORGANIZER;CN=Ev.-Luth. St. Katharinen-Kirchengemeinde zu Probsteierhagen:MA
 ILTO:buero@kirche-probsteierhagen.de
LOCATION:St. Katharinen-Kirche Probsteierhagen\, Alte Dorfstraße 49\, Prob
 steierhagen
GEO:54.363179;10.287427
BEGIN:VALARM
TRIGGER;VALUE=DURATION:P1D
ACTION:DISPLAY
DESCRIPTION:Frühstücks-Gottesdienst\, Pastor Müller
END:VALARM
END:VEVENT
END:VCALENDAR
