BEGIN:VCALENDAR
VERSION:2.0
PRODID:-//Sabre//Sabre VObject 4.5.5//EN
CALSCALE:GREGORIAN
BEGIN:VEVENT
UID:sabre-vobject-8c8ab37f-b9b2-4bc2-b4eb-5a9bc919e4d1
DTSTAMP:20260420T033748Z
SUMMARY:Gottesdienst für Groß & Klein Pastor Daniel Kuhl
DTSTART;TZID=Europe/Berlin:20260406T110000
ORGANIZER;CN=Ev.-Luth. Anker-Gottes-Kirchengemeinde Laboe:MAILTO:info@kirch
 e-laboe.de
LOCATION:Anker Gottes-Kirche\, Brodersdorfer Weg 1\, Laboe
GEO:54.402693;10.226708
BEGIN:VALARM
TRIGGER;VALUE=DURATION:P1D
ACTION:DISPLAY
DESCRIPTION:Gottesdienst für Groß & Klein Pastor Daniel Kuhl
END:VALARM
END:VEVENT
END:VCALENDAR
