BEGIN:VCALENDAR
VERSION:2.0
PRODID:-//Sabre//Sabre VObject 4.5.5//EN
CALSCALE:GREGORIAN
BEGIN:VEVENT
UID:sabre-vobject-28082417-6b15-48c0-9b8d-aa9dbe544e36
DTSTAMP:20260420T033748Z
SUMMARY:Gottesdienst\, im Anschluss: Kirchenkafee\, Pn Lubeck
DTSTART;TZID=Europe/Berlin:20260412T110000
ORGANIZER;CN=Ev.-Luth. Friedenskirchengemeinde Plön:MAILTO:kirche-ploen@ki
 rche-ps.de
LOCATION:Nikolaikirche Plön\, Markt 25\, Plön
GEO:54.157971;10.417241
BEGIN:VALARM
TRIGGER;VALUE=DURATION:P1D
ACTION:DISPLAY
DESCRIPTION:Gottesdienst\, im Anschluss: Kirchenkafee\, Pn Lubeck
END:VALARM
END:VEVENT
END:VCALENDAR
