BEGIN:VCALENDAR
VERSION:2.0
PRODID:-//Sabre//Sabre VObject 4.5.5//EN
CALSCALE:GREGORIAN
BEGIN:VEVENT
UID:sabre-vobject-addcff4d-0d21-4d0d-bfbf-27847b471df7
DTSTAMP:20260420T034722Z
SUMMARY:Gottesdienst in Giekau mit Abendmahl (Wein) mit Pastor Günther Suc
 kow
DTSTART;TZID=Europe/Berlin:20260402T190000
ORGANIZER;CN=Ev.-Luth. St. Johannes-Kirchengemeinde Giekau:MAILTO:kirche-gi
 ekau@kirche-ps.de
LOCATION:St. Johannes-Kirche Giekau\, Seestr. 2\, Giekau
GEO:54.317927;10.50624
DESCRIPTION:\nGottesdienst in Giekau mit Abendmahl (Wein) mit Pastor Günth
 er Suckow
BEGIN:VALARM
TRIGGER;VALUE=DURATION:P1D
ACTION:DISPLAY
DESCRIPTION:Gottesdienst in Giekau mit Abendmahl (Wein) mit Pastor Günther
  Suckow
END:VALARM
END:VEVENT
END:VCALENDAR
