BEGIN:VCALENDAR
VERSION:2.0
PRODID:-//Sabre//Sabre VObject 4.5.5//EN
CALSCALE:GREGORIAN
BEGIN:VEVENT
UID:sabre-vobject-67008674-e6d1-434a-b307-988215cbf075
DTSTAMP:20260420T034849Z
SUMMARY:Gottesdienst in Giekau mit Pastor Günther Suckow und mit dem Kirch
 enchor
DTSTART;TZID=Europe/Berlin:20260403T093000
ORGANIZER;CN=Ev.-Luth. St. Johannes-Kirchengemeinde Giekau:MAILTO:kirche-gi
 ekau@kirche-ps.de
LOCATION:St. Johannes-Kirche Giekau\, Seestr. 2\, Giekau
GEO:54.317927;10.50624
DESCRIPTION:\nGottesdienst in Giekau mit Pastor Günther Suckow und mit dem
  Kirchenchor
BEGIN:VALARM
TRIGGER;VALUE=DURATION:P1D
ACTION:DISPLAY
DESCRIPTION:Gottesdienst in Giekau mit Pastor Günther Suckow und mit dem K
 irchenchor
END:VALARM
END:VEVENT
END:VCALENDAR
