BEGIN:VCALENDAR
VERSION:2.0
PRODID:-//Sabre//Sabre VObject 4.5.5//EN
CALSCALE:GREGORIAN
BEGIN:VEVENT
UID:sabre-vobject-bc50aa23-ba07-4eb6-b3aa-cb176ec447b7
DTSTAMP:20260420T035017Z
SUMMARY:Gottesdienst in Hohenfelde mit Pastor Günther Suckow und dem Posau
 nenchor im Anschluss vor der Kapelle
DTSTART;TZID=Europe/Berlin:20260405T093000
ORGANIZER;CN=Ev.-Luth. St. Johannes-Kirchengemeinde Giekau:MAILTO:kirche-gi
 ekau@kirche-ps.de
LOCATION:Martin-Luther Kapelle\, Kapellenstraße 2\, Hohenfelde
GEO:54.366433;10.506384
DESCRIPTION:\nGottesdienst in Hohenfelde mit Pastor Günther Suckow und dem
  Posaunenchor im Anschluss vor der Kapelle
BEGIN:VALARM
TRIGGER;VALUE=DURATION:P1D
ACTION:DISPLAY
DESCRIPTION:Gottesdienst in Hohenfelde mit Pastor Günther Suckow und dem P
 osaunenchor im Anschluss vor der Kapelle
END:VALARM
END:VEVENT
END:VCALENDAR
