BEGIN:VCALENDAR
VERSION:2.0
PRODID:-//Sabre//Sabre VObject 4.5.5//EN
CALSCALE:GREGORIAN
BEGIN:VEVENT
UID:sabre-vobject-4c612742-2b84-4c9b-af40-dba433646c54
DTSTAMP:20260420T034523Z
SUMMARY:Gottesdienst in Hohenfelde mit Pastor Günther Suckow und mit Posau
 ne und Orgel
DTSTART;TZID=Europe/Berlin:20260403T110000
ORGANIZER;CN=Ev.-Luth. St. Johannes-Kirchengemeinde Giekau:MAILTO:kirche-gi
 ekau@kirche-ps.de
LOCATION:Martin-Luther Kapelle\, Kapellenstraße 2\, Hohenfelde
GEO:54.366433;10.506384
DESCRIPTION:\nGottesdienst in Hohenfelde mit Pastor Günther Suckow und mit
  Posaune und Orgel
BEGIN:VALARM
TRIGGER;VALUE=DURATION:P1D
ACTION:DISPLAY
DESCRIPTION:Gottesdienst in Hohenfelde mit Pastor Günther Suckow und mit P
 osaune und Orgel
END:VALARM
END:VEVENT
END:VCALENDAR
