BEGIN:VCALENDAR
VERSION:2.0
PRODID:-//Sabre//Sabre VObject 4.5.5//EN
CALSCALE:GREGORIAN
BEGIN:VEVENT
UID:sabre-vobject-3d28b51f-6d5f-44f3-bf3f-f575c90c57df
DTSTAMP:20260420T033309Z
SUMMARY:Gottesdienst mit Abendmahl
DTSTART;TZID=Europe/Berlin:20260412T110000
ORGANIZER;CN=Ev.-Luth. Kirchengemeinde Selent:MAILTO:kg-selent@gmx.de
LOCATION:St. Servatius\, Dorfplatz 5\, Selent
GEO:54.289771;10.428322
BEGIN:VALARM
TRIGGER;VALUE=DURATION:P1D
ACTION:DISPLAY
DESCRIPTION:Gottesdienst mit Abendmahl
END:VALARM
END:VEVENT
END:VCALENDAR
