BEGIN:VCALENDAR
VERSION:2.0
PRODID:-//Sabre//Sabre VObject 4.5.5//EN
CALSCALE:GREGORIAN
BEGIN:VEVENT
UID:sabre-vobject-30151bed-7c41-4b00-9755-4d9686cfd216
DTSTAMP:20260420T033952Z
SUMMARY:Gottesdienst mit Abendmahl\, Pastorin Gatscha
DTSTART;TZID=Europe/Berlin:20260403T093000
ORGANIZER;CN=Ev.-Luth. Kirchengemeinde Schönberg:MAILTO:gemeindebuero@kirc
 he-schoenberg.de
LOCATION:Kirche Schönberg\, Am Markt 1\, Holm
GEO:54.395665;10.370482
BEGIN:VALARM
TRIGGER;VALUE=DURATION:P1D
ACTION:DISPLAY
DESCRIPTION:Gottesdienst mit Abendmahl\, Pastorin Gatscha
END:VALARM
END:VEVENT
END:VCALENDAR
