BEGIN:VCALENDAR
VERSION:2.0
PRODID:-//Sabre//Sabre VObject 4.5.5//EN
CALSCALE:GREGORIAN
BEGIN:VEVENT
UID:sabre-vobject-a5b616e7-5f48-432a-8547-df3d338b32dc
DTSTAMP:20260420T034141Z
SUMMARY:Gottesdienst mit Abendmahl\, Pn Haustein
DTSTART;TZID=Europe/Berlin:20260419T093000
ORGANIZER;CN=Ev.-Luth. Kirchengemeinde Lütjenburg:MAILTO:mail@kirchengemei
 nde-luetjenburg.de
LOCATION:St. Michaelis\, Wehdenstraße 14\, Lütjenburg
GEO:54.292638;10.59211
BEGIN:VALARM
TRIGGER;VALUE=DURATION:P1D
ACTION:DISPLAY
DESCRIPTION:Gottesdienst mit Abendmahl\, Pn Haustein
END:VALARM
END:VEVENT
END:VCALENDAR
