BEGIN:VCALENDAR
VERSION:2.0
PRODID:-//Sabre//Sabre VObject 4.5.5//EN
CALSCALE:GREGORIAN
BEGIN:VEVENT
UID:sabre-vobject-82889ebb-e662-48a4-8863-0339f689732e
DTSTAMP:20260420T034252Z
SUMMARY:Gottesdienst mit Abendmahl\, Prädikant Klütz
DTSTART;TZID=Europe/Berlin:20260402T180000
ORGANIZER;CN=Ev.-Luth. Philippus-Kirchengemeinde Klausdorf:MAILTO:kirchenbu
 ero@kirchengemeinde-klausdorf.de
LOCATION:Philippus Kirche\, Dorfplatz 8\, Schwentinental
GEO:54.309745;10.214354
BEGIN:VALARM
TRIGGER;VALUE=DURATION:P1D
ACTION:DISPLAY
DESCRIPTION:Gottesdienst mit Abendmahl\, Prädikant Klütz
END:VALARM
END:VEVENT
END:VCALENDAR
