BEGIN:VCALENDAR
VERSION:2.0
PRODID:-//Sabre//Sabre VObject 4.5.5//EN
CALSCALE:GREGORIAN
BEGIN:VEVENT
UID:sabre-vobject-0f5a1738-dde9-4f97-a9ad-4311be9ac2bf
DTSTAMP:20260420T034559Z
SUMMARY:Gottesdienst mit Abendmahl und Kantorei\, Pastorin Gatscha
DTSTART;TZID=Europe/Berlin:20260405T093000
ORGANIZER;CN=Ev.-Luth. Kirchengemeinde Schönberg:MAILTO:gemeindebuero@kirc
 he-schoenberg.de
LOCATION:Kirche Schönberg\, Am Markt 1\, Holm
GEO:54.395665;10.370482
BEGIN:VALARM
TRIGGER;VALUE=DURATION:P1D
ACTION:DISPLAY
DESCRIPTION:Gottesdienst mit Abendmahl und Kantorei\, Pastorin Gatscha
END:VALARM
END:VEVENT
END:VCALENDAR
