BEGIN:VCALENDAR
VERSION:2.0
PRODID:-//Sabre//Sabre VObject 4.5.5//EN
CALSCALE:GREGORIAN
BEGIN:VEVENT
UID:sabre-vobject-a401f262-1574-406c-973a-845f57a66ab6
DTSTAMP:20260420T034400Z
SUMMARY:Gottesdienst mit Chormusik\, Pastor v. Somogyi
DTSTART;TZID=Europe/Berlin:20260403T110000
ORGANIZER;CN=Ev.-Luth. Kirchengemeinde Selent:MAILTO:kg-selent@gmx.de
LOCATION:St. Servatius\, Dorfplatz 5\, Selent
GEO:54.289771;10.428322
BEGIN:VALARM
TRIGGER;VALUE=DURATION:P1D
ACTION:DISPLAY
DESCRIPTION:Gottesdienst mit Chormusik\, Pastor v. Somogyi
END:VALARM
END:VEVENT
END:VCALENDAR
