BEGIN:VCALENDAR
VERSION:2.0
PRODID:-//Sabre//Sabre VObject 4.5.5//EN
CALSCALE:GREGORIAN
BEGIN:VEVENT
UID:sabre-vobject-ac5010b0-ef94-4e60-82bd-69e1a2785aa7
DTSTAMP:20260420T033915Z
SUMMARY:Gottesdienst mit Kantate\, Pn Parra und Bischof i.R. Magaard
DTSTART;TZID=Europe/Berlin:20260406T110000
ORGANIZER;CN=Ev.-Luth. Kirchengemeinde Preetz:MAILTO:kirchenbuero@kirche-in
 -preetz.de
LOCATION:Stadtkirche\, Kirchplatz 8\, Preetz
GEO:54.23195;10.28089
BEGIN:VALARM
TRIGGER;VALUE=DURATION:P1D
ACTION:DISPLAY
DESCRIPTION:Gottesdienst mit Kantate\, Pn Parra und Bischof i.R. Magaard
END:VALARM
END:VEVENT
END:VCALENDAR
