BEGIN:VCALENDAR
VERSION:2.0
PRODID:-//Sabre//Sabre VObject 4.5.5//EN
CALSCALE:GREGORIAN
BEGIN:VEVENT
UID:sabre-vobject-8f7942c4-e47d-41ca-a11c-e989f32970fb
DTSTAMP:20260420T033457Z
SUMMARY:Gottesdienst mit Kantorei\, Pastor Müller
DTSTART;TZID=Europe/Berlin:20260403T143000
ORGANIZER;CN=Ev.-Luth. St. Katharinen-Kirchengemeinde zu Probsteierhagen:MA
 ILTO:buero@kirche-probsteierhagen.de
LOCATION:St. Katharinen-Kirche Probsteierhagen\, Alte Dorfstraße 49\, Prob
 steierhagen
GEO:54.363179;10.287427
BEGIN:VALARM
TRIGGER;VALUE=DURATION:P1D
ACTION:DISPLAY
DESCRIPTION:Gottesdienst mit Kantorei\, Pastor Müller
END:VALARM
END:VEVENT
END:VCALENDAR
