BEGIN:VCALENDAR
VERSION:2.0
PRODID:-//Sabre//Sabre VObject 4.5.5//EN
CALSCALE:GREGORIAN
BEGIN:VEVENT
UID:sabre-vobject-a6717e02-27b7-4187-adf1-3443d32730bb
DTSTAMP:20260420T033547Z
SUMMARY:Gottesdienst mit Kantorei\, Pastor Müller
DTSTART;TZID=Europe/Berlin:20260405T093000
ORGANIZER;CN=Ev.-Luth. St. Katharinen-Kirchengemeinde zu Probsteierhagen:MA
 ILTO:buero@kirche-probsteierhagen.de
LOCATION:St. Katharinen-Kirche Probsteierhagen\, Alte Dorfstraße 49\, Prob
 steierhagen
GEO:54.363179;10.287427
BEGIN:VALARM
TRIGGER;VALUE=DURATION:P1D
ACTION:DISPLAY
DESCRIPTION:Gottesdienst mit Kantorei\, Pastor Müller
END:VALARM
END:VEVENT
END:VCALENDAR
