BEGIN:VCALENDAR
VERSION:2.0
PRODID:-//Sabre//Sabre VObject 4.5.5//EN
CALSCALE:GREGORIAN
BEGIN:VEVENT
UID:sabre-vobject-40a3b435-0643-462c-9de7-e4118d2facd1
DTSTAMP:20260420T034722Z
SUMMARY:Gottesdienst mit Pastor Suhr mit Telefongottesdienst 0431-55606212
DTSTART;TZID=Europe/Berlin:20260419T100000
ORGANIZER;CN=Ev.-Luth. Kirchengemeinde Schönkirchen:MAILTO:info@kirche-sch
 oenkirchen.de
LOCATION:Ev. Gemeindehaus Mönkeberg\, Am Eksol 12\, Mönkeberg
GEO:54.348822;10.190254
BEGIN:VALARM
TRIGGER;VALUE=DURATION:P1D
ACTION:DISPLAY
DESCRIPTION:Gottesdienst mit Pastor Suhr mit Telefongottesdienst 0431-55606
 212
END:VALARM
END:VEVENT
END:VCALENDAR
