BEGIN:VCALENDAR
VERSION:2.0
PRODID:-//Sabre//Sabre VObject 4.5.5//EN
CALSCALE:GREGORIAN
BEGIN:VEVENT
UID:sabre-vobject-668f46c3-e51c-4a22-883e-6e73cc8f8664
DTSTAMP:20260420T034320Z
SUMMARY:Gottesdienst mit Pastorin Rahnenführer
DTSTART;TZID=Europe/Berlin:20260403T093000
ORGANIZER;CN=Ev.-Luth. Friedenskirchengemeinde Plön:MAILTO:kirche-ploen@ki
 rche-ps.de
LOCATION:Kirche Lebrade\, Pastertwiet 2\, Lebrade
GEO:54.216783;10.422521
BEGIN:VALARM
TRIGGER;VALUE=DURATION:P1D
ACTION:DISPLAY
DESCRIPTION:Gottesdienst mit Pastorin Rahnenführer
END:VALARM
END:VEVENT
END:VCALENDAR
