BEGIN:VCALENDAR
VERSION:2.0
PRODID:-//Sabre//Sabre VObject 4.5.5//EN
CALSCALE:GREGORIAN
BEGIN:VEVENT
UID:sabre-vobject-e4de395c-f94a-487d-a927-bb0001197e6a
DTSTAMP:20260420T034559Z
SUMMARY:Gottesdienst mit Taufe in Giekau mit Pastor Günther Suckow
DTSTART;TZID=Europe/Berlin:20260419T093000
ORGANIZER;CN=Ev.-Luth. St. Johannes-Kirchengemeinde Giekau:MAILTO:kirche-gi
 ekau@kirche-ps.de
LOCATION:St. Johannes-Kirche Giekau\, Seestr. 2\, Giekau
GEO:54.317927;10.50624
DESCRIPTION:\nGottesdienst mit Taufe in Giekau mit Pastor Günther Suckow
BEGIN:VALARM
TRIGGER;VALUE=DURATION:P1D
ACTION:DISPLAY
DESCRIPTION:Gottesdienst mit Taufe in Giekau mit Pastor Günther Suckow
END:VALARM
END:VEVENT
END:VCALENDAR
