BEGIN:VCALENDAR
VERSION:2.0
PRODID:-//Sabre//Sabre VObject 4.5.5//EN
CALSCALE:GREGORIAN
BEGIN:VEVENT
UID:sabre-vobject-f4b0db54-453a-453d-8976-fa371e965928
DTSTAMP:20260420T033309Z
SUMMARY:Gottesdienst\, P. Suckow
DTSTART;TZID=Europe/Berlin:20260419T110000
ORGANIZER;CN=Ev.-Luth. Kirchengemeinde Lütjenburg:MAILTO:mail@kirchengemei
 nde-luetjenburg.de
LOCATION:St.-Jürgen-Kirche Hohwacht\, Am Buchholz 6\, Hohwacht (Ostsee)
GEO:54.32088;10.66528
BEGIN:VALARM
TRIGGER;VALUE=DURATION:P1D
ACTION:DISPLAY
DESCRIPTION:Gottesdienst\, P. Suckow
END:VALARM
END:VEVENT
END:VCALENDAR
