BEGIN:VCALENDAR
VERSION:2.0
PRODID:-//Sabre//Sabre VObject 4.5.5//EN
CALSCALE:GREGORIAN
BEGIN:VEVENT
UID:sabre-vobject-e7cd2f24-5576-4a8d-9d97-7860eca38168
DTSTAMP:20260422T081952Z
SUMMARY:Gottesdienst\, Pastor i.R. Sabrowski
DTSTART;TZID=Europe/Berlin:20260322T093000
ORGANIZER;CN=Ev.-Luth. Kirchengemeinde Schönberg:MAILTO:gemeindebuero@kirc
 he-schoenberg.de
LOCATION:Kirche Schönberg\, Am Markt 1\, Holm
GEO:54.395665;10.370482
BEGIN:VALARM
TRIGGER;VALUE=DURATION:P1D
ACTION:DISPLAY
DESCRIPTION:Gottesdienst\, Pastor i.R. Sabrowski
END:VALARM
END:VEVENT
END:VCALENDAR
