BEGIN:VCALENDAR
VERSION:2.0
PRODID:-//Sabre//Sabre VObject 4.5.5//EN
CALSCALE:GREGORIAN
BEGIN:VEVENT
UID:sabre-vobject-94d1ca1a-a642-44d3-b80d-265e3d60fd1f
DTSTAMP:20260420T033234Z
SUMMARY:Gottesdienst\, Pastor Müller
DTSTART;TZID=Europe/Berlin:20260426T110000
ORGANIZER;CN=Ev.-Luth. Anker-Gottes-Kirchengemeinde Laboe:MAILTO:info@kirch
 e-laboe.de
LOCATION:Anker Gottes-Kirche\, Brodersdorfer Weg 1\, Laboe
GEO:54.402693;10.226708
BEGIN:VALARM
TRIGGER;VALUE=DURATION:P1D
ACTION:DISPLAY
DESCRIPTION:Gottesdienst\, Pastor Müller
END:VALARM
END:VEVENT
END:VCALENDAR
