BEGIN:VCALENDAR
VERSION:2.0
PRODID:-//Sabre//Sabre VObject 4.5.5//EN
CALSCALE:GREGORIAN
BEGIN:VEVENT
UID:sabre-vobject-d1543bb8-3860-4d6d-9a36-a4978894d938
DTSTAMP:20260419T125659Z
SUMMARY:Gottesdienst\, Pastorin Parra
DTSTART;TZID=Europe/Berlin:20260329T093000
ORGANIZER;CN=Ev.-Luth. Kirchengemeinde Preetz:MAILTO:kirchenbuero@kirche-in
 -preetz.de
LOCATION:Stadtkirche\, Kirchplatz 8\, Preetz
GEO:54.23195;10.28089
BEGIN:VALARM
TRIGGER;VALUE=DURATION:P1D
ACTION:DISPLAY
DESCRIPTION:Gottesdienst\, Pastorin Parra
END:VALARM
END:VEVENT
END:VCALENDAR
