BEGIN:VCALENDAR
VERSION:2.0
PRODID:-//Sabre//Sabre VObject 4.5.5//EN
CALSCALE:GREGORIAN
BEGIN:VEVENT
UID:sabre-vobject-1dbb57bc-eec9-4f62-a1c8-4f63aab6bcda
DTSTAMP:20260420T034514Z
SUMMARY:Gottesdienst\, Pastorin Stockhausen & Chor
DTSTART;TZID=Europe/Berlin:20260403T100000
ORGANIZER;CN=Ev.-Luth. Philippus-Kirchengemeinde Klausdorf:MAILTO:kirchenbu
 ero@kirchengemeinde-klausdorf.de
LOCATION:Philippus Kirche\, Dorfplatz 8\, Schwentinental
GEO:54.309745;10.214354
BEGIN:VALARM
TRIGGER;VALUE=DURATION:P1D
ACTION:DISPLAY
DESCRIPTION:Gottesdienst\, Pastorin Stockhausen & Chor
END:VALARM
END:VEVENT
END:VCALENDAR
