BEGIN:VCALENDAR
VERSION:2.0
PRODID:-//Sabre//Sabre VObject 4.5.5//EN
CALSCALE:GREGORIAN
BEGIN:VEVENT
UID:sabre-vobject-c48d6660-850a-4923-bd0e-a0ff282314dc
DTSTAMP:20260420T033243Z
SUMMARY:Gottesdienst\, Pn Parra
DTSTART;TZID=Europe/Berlin:20260419T093000
ORGANIZER;CN=Ev.-Luth. Kirchengemeinde Preetz:MAILTO:kirchenbuero@kirche-in
 -preetz.de
LOCATION:Stadtkirche\, Kirchplatz 8\, Preetz
GEO:54.23195;10.28089
BEGIN:VALARM
TRIGGER;VALUE=DURATION:P1D
ACTION:DISPLAY
DESCRIPTION:Gottesdienst\, Pn Parra
END:VALARM
END:VEVENT
END:VCALENDAR
