BEGIN:VCALENDAR
VERSION:2.0
PRODID:-//Sabre//Sabre VObject 4.5.5//EN
CALSCALE:GREGORIAN
BEGIN:VEVENT
UID:sabre-vobject-bb639bf7-2b46-457b-9e7b-eebeb67a5b80
DTSTAMP:20260420T033233Z
SUMMARY:Gottesdienst\, Pn Schleupner
DTSTART;TZID=Europe/Berlin:20260412T110000
ORGANIZER;CN=Ev.-Luth. Kirchengemeinde Lütjenburg:MAILTO:mail@kirchengemei
 nde-luetjenburg.de
LOCATION:St.-Jürgen-Kirche Hohwacht\, Am Buchholz 6\, Hohwacht (Ostsee)
GEO:54.32088;10.66528
BEGIN:VALARM
TRIGGER;VALUE=DURATION:P1D
ACTION:DISPLAY
DESCRIPTION:Gottesdienst\, Pn Schleupner
END:VALARM
END:VEVENT
END:VCALENDAR
