BEGIN:VCALENDAR
VERSION:2.0
PRODID:-//Sabre//Sabre VObject 4.5.5//EN
CALSCALE:GREGORIAN
BEGIN:VEVENT
UID:sabre-vobject-d0191ba6-1438-4c0f-baeb-73b3d3dfc3b8
DTSTAMP:20260420T033814Z
SUMMARY:Gottesdienst\, Pn Stockhausen
DTSTART;TZID=Europe/Berlin:20260412T100000
ORGANIZER;CN=Ev.-Luth. Philippus-Kirchengemeinde Klausdorf:MAILTO:kirchenbu
 ero@kirchengemeinde-klausdorf.de
LOCATION:Philippus Kirche\, Dorfplatz 8\, Schwentinental
GEO:54.309745;10.214354
BEGIN:VALARM
TRIGGER;VALUE=DURATION:P1D
ACTION:DISPLAY
DESCRIPTION:Gottesdienst\, Pn Stockhausen
END:VALARM
END:VEVENT
END:VCALENDAR
