BEGIN:VCALENDAR
VERSION:2.0
PRODID:-//Sabre//Sabre VObject 4.5.5//EN
CALSCALE:GREGORIAN
BEGIN:VEVENT
UID:sabre-vobject-b9fe8903-f48e-4cd4-9ca5-349c8d47ce85
DTSTAMP:20260420T033309Z
SUMMARY:Gottesdienst  Präd. Klütz
DTSTART;TZID=Europe/Berlin:20260412T180000
ORGANIZER;CN=Ev.-Luth. St. Martin-Kirchengemeinde Raisdorf:MAILTO:info@kirc
 heraisdorf.de
LOCATION:St. Martins-Kirche Raisdorf\, St. Martins-Weg 2\, Schwentinental
GEO:54.277185;10.248392
BEGIN:VALARM
TRIGGER;VALUE=DURATION:P1D
ACTION:DISPLAY
DESCRIPTION:Gottesdienst  Präd. Klütz
END:VALARM
END:VEVENT
END:VCALENDAR
