BEGIN:VCALENDAR
VERSION:2.0
PRODID:-//Sabre//Sabre VObject 4.5.5//EN
CALSCALE:GREGORIAN
BEGIN:VEVENT
UID:sabre-vobject-712398a4-7cbd-489e-af84-12324d8c3428
DTSTAMP:20260420T034849Z
SUMMARY:Gottesdienst zum Karfreitag mit Pastor Anderson mit Telefon-Gottesd
 ienst:0431/55606212
DTSTART;TZID=Europe/Berlin:20260403T150000
ORGANIZER;CN=Ev.-Luth. Kirchengemeinde Schönkirchen:MAILTO:info@kirche-sch
 oenkirchen.de
LOCATION:Ev. Gemeindehaus Mönkeberg\, Am Eksol 12\, Mönkeberg
GEO:54.348822;10.190254
BEGIN:VALARM
TRIGGER;VALUE=DURATION:P1D
ACTION:DISPLAY
DESCRIPTION:Gottesdienst zum Karfreitag mit Pastor Anderson mit Telefon-Got
 tesdienst:0431/55606212
END:VALARM
END:VEVENT
END:VCALENDAR
