BEGIN:VCALENDAR
VERSION:2.0
PRODID:-//Sabre//Sabre VObject 4.5.5//EN
CALSCALE:GREGORIAN
BEGIN:VEVENT
UID:sabre-vobject-4ae18274-60b5-47b7-9c92-76473d8e319f
DTSTAMP:20260420T034437Z
SUMMARY:Gottesdienst zum Karfreitag\, Pastor Daniel Kuhl
DTSTART;TZID=Europe/Berlin:20260403T110000
ORGANIZER;CN=Ev.-Luth. Anker-Gottes-Kirchengemeinde Laboe:MAILTO:info@kirch
 e-laboe.de
LOCATION:Anker Gottes-Kirche\, Brodersdorfer Weg 1\, Laboe
GEO:54.402693;10.226708
BEGIN:VALARM
TRIGGER;VALUE=DURATION:P1D
ACTION:DISPLAY
DESCRIPTION:Gottesdienst zum Karfreitag\, Pastor Daniel Kuhl
END:VALARM
END:VEVENT
END:VCALENDAR
