BEGIN:VCALENDAR
VERSION:2.0
PRODID:-//Sabre//Sabre VObject 4.5.5//EN
CALSCALE:GREGORIAN
BEGIN:VEVENT
UID:sabre-vobject-a3618226-a3dc-4899-96ae-dcee4c6cfa23
DTSTAMP:20260420T034400Z
SUMMARY:Gottesdienst zum Karfreitag\, Pn Lohse
DTSTART;TZID=Europe/Berlin:20260403T093000
ORGANIZER;CN=Ev.-Luth. Kirchengemeinde Lütjenburg:MAILTO:mail@kirchengemei
 nde-luetjenburg.de
LOCATION:St. Michaelis\, Wehdenstraße 14\, Lütjenburg
GEO:54.292638;10.59211
BEGIN:VALARM
TRIGGER;VALUE=DURATION:P1D
ACTION:DISPLAY
DESCRIPTION:Gottesdienst zum Karfreitag\, Pn Lohse
END:VALARM
END:VEVENT
END:VCALENDAR
