BEGIN:VCALENDAR
VERSION:2.0
PRODID:-//Sabre//Sabre VObject 4.5.5//EN
CALSCALE:GREGORIAN
BEGIN:VEVENT
UID:sabre-vobject-60017d3f-3d5e-49cb-9703-e70144056a28
DTSTAMP:20260420T034436Z
SUMMARY:Gottesdienst zum Karfreitag\, Pn Lohse
DTSTART;TZID=Europe/Berlin:20260403T110000
ORGANIZER;CN=Ev.-Luth. Kirchengemeinde Lütjenburg:MAILTO:mail@kirchengemei
 nde-luetjenburg.de
LOCATION:St.-Jürgen-Kirche Hohwacht\, Am Buchholz 6\, Hohwacht (Ostsee)
GEO:54.32088;10.66528
BEGIN:VALARM
TRIGGER;VALUE=DURATION:P1D
ACTION:DISPLAY
DESCRIPTION:Gottesdienst zum Karfreitag\, Pn Lohse
END:VALARM
END:VEVENT
END:VCALENDAR
