BEGIN:VCALENDAR
VERSION:2.0
PRODID:-//Sabre//Sabre VObject 4.5.5//EN
CALSCALE:GREGORIAN
BEGIN:VEVENT
UID:sabre-vobject-f2e5b004-af47-4999-b180-e8d4709355bf
DTSTAMP:20260420T033814Z
SUMMARY:Gottesdienst zur Tauferinnerung\, Pn Schleupner
DTSTART;TZID=Europe/Berlin:20260406T103000
ORGANIZER;CN=Ev.-Luth. Kirchengemeinde Lütjenburg:MAILTO:mail@kirchengemei
 nde-luetjenburg.de
LOCATION:St. Michaelis\, Wehdenstraße 14\, Lütjenburg
GEO:54.292638;10.59211
BEGIN:VALARM
TRIGGER;VALUE=DURATION:P1D
ACTION:DISPLAY
DESCRIPTION:Gottesdienst zur Tauferinnerung\, Pn Schleupner
END:VALARM
END:VEVENT
END:VCALENDAR
