BEGIN:VCALENDAR
VERSION:2.0
PRODID:-//Sabre//Sabre VObject 4.5.5//EN
CALSCALE:GREGORIAN
BEGIN:VEVENT
UID:sabre-vobject-47bf4ad7-382a-4782-aac6-274a5cedddc8
DTSTAMP:20260420T035058Z
SUMMARY:Jesus stirbt für uns – Gottesdienst mit Pastorin Ulrike Jenett (
 Musik: Dorothea Dreessen)
DTSTART;TZID=Europe/Berlin:20260403T100000
ORGANIZER;CN=Ev.-luth. Kirchengemeinde Wankendorf:MAILTO:info@kirchengemein
 de-wankendorf.de
LOCATION:Kirche Wankendorf\, Kirchtor 38\, Wankendorf
GEO:54.118092;10.209095
BEGIN:VALARM
TRIGGER;VALUE=DURATION:P1D
ACTION:DISPLAY
DESCRIPTION:Jesus stirbt für uns – Gottesdienst mit Pastorin Ulrike Jene
 tt (Musik: Dorothea Dreessen)
END:VALARM
END:VEVENT
END:VCALENDAR
