BEGIN:VCALENDAR
VERSION:2.0
PRODID:-//Sabre//Sabre VObject 4.5.5//EN
CALSCALE:GREGORIAN
BEGIN:VEVENT
UID:sabre-vobject-312bd7fe-f2c7-477d-b02e-bc420fc5885d
DTSTAMP:20260420T033345Z
SUMMARY:Kammerkonzert mit dem Ensemble "Mare balticum"
DTSTART;TZID=Europe/Berlin:20260422T190000
ORGANIZER;CN=Ev.-Luth. Kirchengemeinde Lütjenburg:MAILTO:mail@kirchengemei
 nde-luetjenburg.de
LOCATION:St.-Jürgen-Kirche Hohwacht\, Am Buchholz 6\, Hohwacht (Ostsee)
GEO:54.32088;10.66528
DESCRIPTION:\nVirtuose Musik des Barock Instrumentalmusik mit dem Ensemble 
 „Mare balticum“ auf Originalinstrumenten. Marianne Pfau (Oboe und Bloc
 kflöte)\, Ralf Popken (Blockflöte)\, Sara Hubrich (Violine)\, Frauke Rot
 tler-Viain (Violoncello)\, Anke Dennert (Cembalo) Werke von Johann S. Bach
 \, Georg Ph. Telemann\, AntonioVivaldi u.a.Eintritt frei\, Kollekte wird a
 m Ausgang erbeten
BEGIN:VALARM
TRIGGER;VALUE=DURATION:P1D
ACTION:DISPLAY
DESCRIPTION:Kammerkonzert mit dem Ensemble "Mare balticum"
END:VALARM
END:VEVENT
END:VCALENDAR
