BEGIN:VCALENDAR
VERSION:2.0
PRODID:-//Sabre//Sabre VObject 4.5.5//EN
CALSCALE:GREGORIAN
BEGIN:VEVENT
UID:sabre-vobject-9c91a5ef-04a3-40c1-b33d-4a850d3e5e9d
DTSTAMP:20260420T034513Z
SUMMARY:Konfirmation als zentraler Gottesdienst mit Taufe\, P Kroglowski
DTSTART;TZID=Europe/Berlin:20260426T110000
ORGANIZER;CN=Ev.-Luth. Kirchengemeinde Preetz:MAILTO:kirchenbuero@kirche-in
 -preetz.de
LOCATION:Stadtkirche\, Kirchplatz 8\, Preetz
GEO:54.23195;10.28089
BEGIN:VALARM
TRIGGER;VALUE=DURATION:P1D
ACTION:DISPLAY
DESCRIPTION:Konfirmation als zentraler Gottesdienst mit Taufe\, P Kroglowsk
 i
END:VALARM
END:VEVENT
END:VCALENDAR
