BEGIN:VCALENDAR
VERSION:2.0
PRODID:-//Sabre//Sabre VObject 4.5.5//EN
CALSCALE:GREGORIAN
BEGIN:VEVENT
UID:sabre-vobject-0621056c-4760-4b7a-be83-8b060889ed5e
DTSTAMP:20260420T033117Z
SUMMARY:Konfirmation\, P Kroglowski
DTSTART;TZID=Europe/Berlin:20260419T110000
ORGANIZER;CN=Ev.-Luth. Kirchengemeinde Preetz:MAILTO:kirchenbuero@kirche-in
 -preetz.de
LOCATION:Kapelle Sophienhof\, Kreuz 1\, Schellhorn
GEO:54.21352;10.325568
BEGIN:VALARM
TRIGGER;VALUE=DURATION:P1D
ACTION:DISPLAY
DESCRIPTION:Konfirmation\, P Kroglowski
END:VALARM
END:VEVENT
END:VCALENDAR
