BEGIN:VCALENDAR
VERSION:2.0
PRODID:-//Sabre//Sabre VObject 4.5.5//EN
CALSCALE:GREGORIAN
BEGIN:VEVENT
UID:sabre-vobject-b49fc737-3a28-4f5b-8a3a-db3336425b31
DTSTAMP:20260420T034824Z
SUMMARY:Konfirmationsgottesdienst in Giekau mit Pastor Günther Suckow und 
 mit dem Gospelchor
DTSTART;TZID=Europe/Berlin:20260426T100000
ORGANIZER;CN=Ev.-Luth. St. Johannes-Kirchengemeinde Giekau:MAILTO:kirche-gi
 ekau@kirche-ps.de
LOCATION:St. Johannes-Kirche Giekau\, Seestr. 2\, Giekau
GEO:54.317927;10.50624
DESCRIPTION:\nKonfirmationsgottesdienst in Giekau mit Pastor Günther Sucko
 w und mit dem Gospelchor
BEGIN:VALARM
TRIGGER;VALUE=DURATION:P1D
ACTION:DISPLAY
DESCRIPTION:Konfirmationsgottesdienst in Giekau mit Pastor Günther Suckow 
 und mit dem Gospelchor
END:VALARM
END:VEVENT
END:VCALENDAR
