BEGIN:VCALENDAR
VERSION:2.0
PRODID:-//Sabre//Sabre VObject 4.5.5//EN
CALSCALE:GREGORIAN
BEGIN:VEVENT
UID:sabre-vobject-70d4c03f-2619-4784-b336-cb46380d9946
DTSTAMP:20260420T035058Z
SUMMARY:Ökumenischer Kreuzweg\, Pastorin Lubeck und Michael und Enja Veldb
 oer und Team
DTSTART;TZID=Europe/Berlin:20260403T110000
ORGANIZER;CN=Ev.-Luth. Friedenskirchengemeinde Plön:MAILTO:kirche-ploen@ki
 rche-ps.de
LOCATION:Nikolaikirche Plön\, Markt 25\, Plön
GEO:54.157971;10.417241
BEGIN:VALARM
TRIGGER;VALUE=DURATION:P1D
ACTION:DISPLAY
DESCRIPTION:Ökumenischer Kreuzweg\, Pastorin Lubeck und Michael und Enja V
 eldboer und Team
END:VALARM
END:VEVENT
END:VCALENDAR
